Package: spqn Version: 1.23.0 Command: /Library/Frameworks/R.framework/Resources/bin/R CMD INSTALL spqn StartedAt: 2025-11-20 15:19:08 -0500 (Thu, 20 Nov 2025) EndedAt: 2025-11-20 15:19:18 -0500 (Thu, 20 Nov 2025) EllapsedTime: 9.6 seconds RetCode: 0 Status: OK