Package: spqn Version: 1.23.0 Command: /Library/Frameworks/R.framework/Resources/bin/R CMD build --keep-empty-dirs --no-resave-data spqn StartedAt: 2025-11-20 17:50:29 -0500 (Thu, 20 Nov 2025) EndedAt: 2025-11-20 17:51:16 -0500 (Thu, 20 Nov 2025) EllapsedTime: 46.5 seconds RetCode: 0 Status: OK PackageFile: spqn_1.23.0.tar.gz PackageFileSize: 2.81 MiB