Package: spqn Version: 1.23.0 Command: rm -rf spqn.buildbin-libdir && mkdir spqn.buildbin-libdir && /Users/biocbuild/BBS/utils/build-universal.sh spqn_1.23.0.tar.gz /Library/Frameworks/R.framework/Resources/bin/R spqn.buildbin-libdir StartedAt: 2025-11-20 23:54:15 -0500 (Thu, 20 Nov 2025) EndedAt: 2025-11-20 23:54:27 -0500 (Thu, 20 Nov 2025) EllapsedTime: 12.3 seconds RetCode: 0 Status: OK PackageFile: spqn_1.23.0.tgz PackageFileSize: 2.839 MiB