Package: spoon Version: 1.7.0 Command: /home/biocbuild/bbs-3.23-bioc/R/bin/R CMD build --keep-empty-dirs --no-resave-data spoon StartedAt: 2025-11-16 20:24:06 -0500 (Sun, 16 Nov 2025) EndedAt: 2025-11-16 20:25:47 -0500 (Sun, 16 Nov 2025) EllapsedTime: 101.1 seconds RetCode: 0 Status: OK PackageFile: spoon_1.7.0.tar.gz PackageFileSize: 461.2 KiB