Package: splots Version: 1.77.0 Command: /home/biocbuild/bbs-3.23-bioc/R/bin/R CMD build --keep-empty-dirs --no-resave-data splots StartedAt: 2025-10-31 20:25:28 -0400 (Fri, 31 Oct 2025) EndedAt: 2025-10-31 20:26:22 -0400 (Fri, 31 Oct 2025) EllapsedTime: 54.0 seconds RetCode: 0 Status: OK PackageFile: splots_1.77.0.tar.gz PackageFileSize: 669.4 KiB