Package: splots Version: 1.77.0 Command: /Library/Frameworks/R.framework/Resources/bin/R CMD INSTALL splots StartedAt: 2025-11-21 15:12:00 -0500 (Fri, 21 Nov 2025) EndedAt: 2025-11-21 15:12:34 -0500 (Fri, 21 Nov 2025) EllapsedTime: 34.2 seconds RetCode: 0 Status: OK