Package: splots Version: 1.77.0 Command: /Library/Frameworks/R.framework/Resources/bin/R CMD build --keep-empty-dirs --no-resave-data splots StartedAt: 2025-11-21 18:51:50 -0500 (Fri, 21 Nov 2025) EndedAt: 2025-11-21 18:52:30 -0500 (Fri, 21 Nov 2025) EllapsedTime: 40.0 seconds RetCode: 0 Status: OK PackageFile: splots_1.77.0.tar.gz PackageFileSize: 706.2 KiB