Package: splots Version: 1.77.0 Command: rm -rf splots.buildbin-libdir && mkdir splots.buildbin-libdir && /Users/biocbuild/BBS/utils/build-universal.sh splots_1.77.0.tar.gz /Library/Frameworks/R.framework/Resources/bin/R splots.buildbin-libdir StartedAt: 2025-11-22 02:00:14 -0500 (Sat, 22 Nov 2025) EndedAt: 2025-11-22 02:00:21 -0500 (Sat, 22 Nov 2025) EllapsedTime: 7.0 seconds RetCode: 0 Status: OK PackageFile: splots_1.77.0.tgz PackageFileSize: 724 KiB