Package: splots Version: 1.75.0 Command: /Library/Frameworks/R.framework/Resources/bin/R CMD INSTALL splots StartedAt: 2025-10-13 15:03:35 -0400 (Mon, 13 Oct 2025) EndedAt: 2025-10-13 15:03:44 -0400 (Mon, 13 Oct 2025) EllapsedTime: 8.4 seconds RetCode: 0 Status: OK