Package: splineTimeR Version: 1.37.0 Command: /Library/Frameworks/R.framework/Resources/bin/R CMD INSTALL splineTimeR StartedAt: 2025-10-03 15:25:38 -0400 (Fri, 03 Oct 2025) EndedAt: 2025-10-03 15:26:01 -0400 (Fri, 03 Oct 2025) EllapsedTime: 22.2 seconds RetCode: 0 Status: OK