Package: splineTimeR Version: 1.37.0 Command: /Library/Frameworks/R.framework/Resources/bin/R CMD build --keep-empty-dirs --no-resave-data splineTimeR StartedAt: 2025-10-03 19:11:37 -0400 (Fri, 03 Oct 2025) EndedAt: 2025-10-03 19:12:39 -0400 (Fri, 03 Oct 2025) EllapsedTime: 61.7 seconds RetCode: 0 Status: OK PackageFile: splineTimeR_1.37.0.tar.gz PackageFileSize: 1.224 MiB