Package: splineTimeR Version: 1.37.0 Command: rm -rf splineTimeR.buildbin-libdir && mkdir splineTimeR.buildbin-libdir && /Users/biocbuild/BBS/utils/build-universal.sh splineTimeR_1.37.0.tar.gz /Library/Frameworks/R.framework/Resources/bin/R splineTimeR.buildbin-libdir StartedAt: 2025-10-04 02:32:25 -0400 (Sat, 04 Oct 2025) EndedAt: 2025-10-04 02:32:50 -0400 (Sat, 04 Oct 2025) EllapsedTime: 25.2 seconds RetCode: 0 Status: OK PackageFile: splineTimeR_1.37.0.tgz PackageFileSize: 1.266 MiB