Package: splatter Version: 1.33.1 Command: /home/biocbuild/bbs-3.22-bioc/R/bin/R CMD INSTALL splatter StartedAt: 2025-10-15 15:20:46 -0400 (Wed, 15 Oct 2025) EndedAt: 2025-10-15 15:21:15 -0400 (Wed, 15 Oct 2025) EllapsedTime: 29.3 seconds RetCode: 0 Status: OK