Package: splatter Version: 1.33.1 Command: /home/biocbuild/bbs-3.22-bioc/R/bin/R CMD build --keep-empty-dirs --no-resave-data --md5 splatter StartedAt: 2025-10-15 20:25:12 -0400 (Wed, 15 Oct 2025) EndedAt: 2025-10-15 20:28:17 -0400 (Wed, 15 Oct 2025) EllapsedTime: 185.1 seconds RetCode: 0 Status: OK PackageFile: splatter_1.33.1.tar.gz PackageFileSize: 6.483 MiB