Package: splatter Version: 1.35.0 Command: /home/biocbuild/bbs-3.23-bioc/R/bin/R CMD INSTALL splatter StartedAt: 2025-11-07 15:21:10 -0500 (Fri, 07 Nov 2025) EndedAt: 2025-11-07 15:21:40 -0500 (Fri, 07 Nov 2025) EllapsedTime: 29.5 seconds RetCode: 0 Status: OK