Package: splatter Version: 1.35.0 Command: /home/biocbuild/bbs-3.23-bioc/R/bin/R CMD build --keep-empty-dirs --no-resave-data splatter StartedAt: 2025-11-07 20:13:02 -0500 (Fri, 07 Nov 2025) EndedAt: 2025-11-07 20:16:06 -0500 (Fri, 07 Nov 2025) EllapsedTime: 184.1 seconds RetCode: 0 Status: OK PackageFile: splatter_1.35.0.tar.gz PackageFileSize: 6.474 MiB