Package: splatter Version: 1.33.1 Command: /Library/Frameworks/R.framework/Resources/bin/R CMD INSTALL splatter StartedAt: 2025-10-24 15:15:42 -0400 (Fri, 24 Oct 2025) EndedAt: 2025-10-24 15:15:53 -0400 (Fri, 24 Oct 2025) EllapsedTime: 11.3 seconds RetCode: 0 Status: OK