Package: splatter Version: 1.33.1 Command: /Library/Frameworks/R.framework/Resources/bin/R CMD build --keep-empty-dirs --no-resave-data splatter StartedAt: 2025-10-23 17:55:28 -0400 (Thu, 23 Oct 2025) EndedAt: 2025-10-23 17:56:41 -0400 (Thu, 23 Oct 2025) EllapsedTime: 72.8 seconds RetCode: 0 Status: OK PackageFile: splatter_1.33.1.tar.gz PackageFileSize: 7.011 MiB