Package: splatter Version: 1.33.1 Command: rm -rf splatter.buildbin-libdir && mkdir splatter.buildbin-libdir && /Users/biocbuild/BBS/utils/build-universal.sh splatter_1.33.1.tar.gz /Library/Frameworks/R.framework/Resources/bin/R splatter.buildbin-libdir StartedAt: 2025-10-23 23:28:36 -0400 (Thu, 23 Oct 2025) EndedAt: 2025-10-23 23:28:50 -0400 (Thu, 23 Oct 2025) EllapsedTime: 14.3 seconds RetCode: 0 Status: OK PackageFile: splatter_1.33.1.tgz PackageFileSize: 6.833 MiB