Package: spkTools Version: 1.67.0 Command: /home/biocbuild/bbs-3.23-bioc/R/bin/R CMD INSTALL spkTools StartedAt: 2025-10-31 15:21:57 -0400 (Fri, 31 Oct 2025) EndedAt: 2025-10-31 15:22:03 -0400 (Fri, 31 Oct 2025) EllapsedTime: 5.1 seconds RetCode: 0 Status: OK