Package: spkTools Version: 1.67.0 Command: /home/biocbuild/bbs-3.23-bioc/R/bin/R CMD check --install=check:spkTools.install-out.txt --library=/home/biocbuild/bbs-3.23-bioc/R/site-library --timings spkTools_1.67.0.tar.gz StartedAt: 2025-11-05 04:09:51 -0500 (Wed, 05 Nov 2025) EndedAt: 2025-11-05 04:11:16 -0500 (Wed, 05 Nov 2025) EllapsedTime: 84.2 seconds RetCode: 0 Status: OK CheckDir: spkTools.Rcheck Warnings: 0