Package: spillR Version: 1.7.0 Command: /home/biocbuild/bbs-3.23-bioc/R/bin/R CMD INSTALL spillR StartedAt: 2025-11-06 15:54:48 -0500 (Thu, 06 Nov 2025) EndedAt: 2025-11-06 15:55:21 -0500 (Thu, 06 Nov 2025) EllapsedTime: 33.0 seconds RetCode: 0 Status: OK