Package: spillR Version: 1.7.0 Command: /home/biocbuild/bbs-3.23-bioc/R/bin/R CMD build --keep-empty-dirs --no-resave-data spillR StartedAt: 2025-11-06 20:09:50 -0500 (Thu, 06 Nov 2025) EndedAt: 2025-11-06 20:11:58 -0500 (Thu, 06 Nov 2025) EllapsedTime: 128.1 seconds RetCode: 0 Status: OK PackageFile: spillR_1.7.0.tar.gz PackageFileSize: 428.4 KiB