Package: spiky Version: 1.17.0 Command: /home/biocbuild/bbs-3.23-bioc/R/bin/R CMD INSTALL spiky StartedAt: 2025-11-14 15:33:49 -0500 (Fri, 14 Nov 2025) EndedAt: 2025-11-14 15:34:30 -0500 (Fri, 14 Nov 2025) EllapsedTime: 41.4 seconds RetCode: 0 Status: OK