Package: spiky Version: 1.17.0 Command: /home/biocbuild/bbs-3.23-bioc/R/bin/R CMD build --keep-empty-dirs --no-resave-data spiky StartedAt: 2025-11-14 20:16:29 -0500 (Fri, 14 Nov 2025) EndedAt: 2025-11-14 20:18:04 -0500 (Fri, 14 Nov 2025) EllapsedTime: 95.1 seconds RetCode: 0 Status: OK PackageFile: spiky_1.17.0.tar.gz PackageFileSize: 14.31 MiB