Package: spikeLI Version: 2.71.0 Command: /home/biocbuild/bbs-3.23-bioc/R/bin/R CMD INSTALL spikeLI StartedAt: 2025-11-20 15:02:18 -0500 (Thu, 20 Nov 2025) EndedAt: 2025-11-20 15:02:27 -0500 (Thu, 20 Nov 2025) EllapsedTime: 9.0 seconds RetCode: 0 Status: OK