Package: spikeLI Version: 2.71.0 Command: /home/biocbuild/bbs-3.23-bioc/R/bin/R CMD build --keep-empty-dirs --no-resave-data spikeLI StartedAt: 2025-11-20 20:17:19 -0500 (Thu, 20 Nov 2025) EndedAt: 2025-11-20 20:17:25 -0500 (Thu, 20 Nov 2025) EllapsedTime: 6.0 seconds RetCode: 0 Status: OK PackageFile: spikeLI_2.71.0.tar.gz PackageFileSize: 393.6 KiB