Package: spikeLI Version: 2.69.0 Command: rm -rf spikeLI.buildbin-libdir && mkdir spikeLI.buildbin-libdir && /Users/biocbuild/BBS/utils/build-universal.sh spikeLI_2.69.0.tar.gz /Library/Frameworks/R.framework/Resources/bin/R spikeLI.buildbin-libdir StartedAt: 2025-10-03 22:57:15 -0400 (Fri, 03 Oct 2025) EndedAt: 2025-10-03 22:57:17 -0400 (Fri, 03 Oct 2025) EllapsedTime: 2.1 seconds RetCode: 0 Status: OK PackageFile: spikeLI_2.69.0.tgz PackageFileSize: 418.9 KiB