Package: spicyR Version: 1.23.0 Command: /home/biocbuild/bbs-3.23-bioc/R/bin/R CMD build --keep-empty-dirs --no-resave-data spicyR StartedAt: 2025-11-20 20:16:59 -0500 (Thu, 20 Nov 2025) EndedAt: 2025-11-20 20:21:56 -0500 (Thu, 20 Nov 2025) EllapsedTime: 297.2 seconds RetCode: 0 Status: OK PackageFile: spicyR_1.23.0.tar.gz PackageFileSize: 3.148 MiB