Package: spicyR Version: 1.21.9 Command: /Library/Frameworks/R.framework/Resources/bin/R CMD INSTALL spicyR StartedAt: 2025-10-23 15:36:34 -0400 (Thu, 23 Oct 2025) EndedAt: 2025-10-23 15:37:27 -0400 (Thu, 23 Oct 2025) EllapsedTime: 53.0 seconds RetCode: 0 Status: OK