Package: spicyR Version: 1.21.9 Command: /Library/Frameworks/R.framework/Resources/bin/R CMD build --keep-empty-dirs --no-resave-data spicyR StartedAt: 2025-10-23 18:49:35 -0400 (Thu, 23 Oct 2025) EndedAt: 2025-10-23 18:55:02 -0400 (Thu, 23 Oct 2025) EllapsedTime: 326.7 seconds RetCode: 0 Status: OK PackageFile: spicyR_1.21.9.tar.gz PackageFileSize: 3.272 MiB