Package: spicyR Version: 1.21.9 Command: rm -rf spicyR.buildbin-libdir && mkdir spicyR.buildbin-libdir && /Users/biocbuild/BBS/utils/build-universal.sh spicyR_1.21.9.tar.gz /Library/Frameworks/R.framework/Resources/bin/R spicyR.buildbin-libdir StartedAt: 2025-10-24 02:00:28 -0400 (Fri, 24 Oct 2025) EndedAt: 2025-10-24 02:01:21 -0400 (Fri, 24 Oct 2025) EllapsedTime: 53.2 seconds RetCode: 0 Status: OK PackageFile: spicyR_1.21.9.tgz PackageFileSize: 3.847 MiB