Package: spicyR Version: 1.21.8 Command: /Library/Frameworks/R.framework/Resources/bin/R CMD INSTALL spicyR StartedAt: 2025-10-05 15:14:51 -0400 (Sun, 05 Oct 2025) EndedAt: 2025-10-05 15:15:06 -0400 (Sun, 05 Oct 2025) EllapsedTime: 15.4 seconds RetCode: 0 Status: OK