Package: spicyR Version: 1.21.8 Command: /Library/Frameworks/R.framework/Resources/bin/R CMD build --keep-empty-dirs --no-resave-data spicyR StartedAt: 2025-10-05 17:53:28 -0400 (Sun, 05 Oct 2025) EndedAt: 2025-10-05 17:55:28 -0400 (Sun, 05 Oct 2025) EllapsedTime: 119.3 seconds RetCode: 0 Status: OK PackageFile: spicyR_1.21.8.tar.gz PackageFileSize: 3.299 MiB