Package: spicyR Version: 1.21.8 Command: rm -rf spicyR.buildbin-libdir && mkdir spicyR.buildbin-libdir && /Users/biocbuild/BBS/utils/build-universal.sh spicyR_1.21.8.tar.gz /Library/Frameworks/R.framework/Resources/bin/R spicyR.buildbin-libdir StartedAt: 2025-10-05 23:00:53 -0400 (Sun, 05 Oct 2025) EndedAt: 2025-10-05 23:01:09 -0400 (Sun, 05 Oct 2025) EllapsedTime: 16.4 seconds RetCode: 0 Status: OK PackageFile: spicyR_1.21.8.tgz PackageFileSize: 3.847 MiB