Package: speckle Version: 1.11.0 Command: /home/biocbuild/bbs-3.23-bioc/R/bin/R CMD INSTALL speckle StartedAt: 2025-11-05 15:30:15 -0500 (Wed, 05 Nov 2025) EndedAt: 2025-11-05 15:30:52 -0500 (Wed, 05 Nov 2025) EllapsedTime: 36.4 seconds RetCode: 0 Status: OK