Package: speckle Version: 1.11.0 Command: /home/biocbuild/bbs-3.23-bioc/R/bin/R CMD build --keep-empty-dirs --no-resave-data speckle StartedAt: 2025-11-05 20:15:28 -0500 (Wed, 05 Nov 2025) EndedAt: 2025-11-05 20:16:51 -0500 (Wed, 05 Nov 2025) EllapsedTime: 83.1 seconds RetCode: 0 Status: OK PackageFile: speckle_1.11.0.tar.gz PackageFileSize: 1.35 MiB