Package: speckle Version: 1.9.1 Command: /Library/Frameworks/R.framework/Resources/bin/R CMD INSTALL speckle StartedAt: 2025-10-16 15:51:33 -0400 (Thu, 16 Oct 2025) EndedAt: 2025-10-16 15:52:25 -0400 (Thu, 16 Oct 2025) EllapsedTime: 52.0 seconds RetCode: 0 Status: OK