Package: speckle Version: 1.9.1 Command: /Library/Frameworks/R.framework/Resources/bin/R CMD build --keep-empty-dirs --no-resave-data speckle StartedAt: 2025-10-16 19:59:42 -0400 (Thu, 16 Oct 2025) EndedAt: 2025-10-16 20:01:30 -0400 (Thu, 16 Oct 2025) EllapsedTime: 108.1 seconds RetCode: 0 Status: OK PackageFile: speckle_1.9.1.tar.gz PackageFileSize: 1.378 MiB