Package: speckle Version: 1.9.1 Command: rm -rf speckle.buildbin-libdir && mkdir speckle.buildbin-libdir && /Users/biocbuild/BBS/utils/build-universal.sh speckle_1.9.1.tar.gz /Library/Frameworks/R.framework/Resources/bin/R speckle.buildbin-libdir StartedAt: 2025-10-18 03:24:38 -0400 (Sat, 18 Oct 2025) EndedAt: 2025-10-18 03:25:34 -0400 (Sat, 18 Oct 2025) EllapsedTime: 55.8 seconds RetCode: 0 Status: OK PackageFile: speckle_1.9.1.tgz PackageFileSize: 1.399 MiB