Package: speckle Version: 1.11.0 Maintainer: Belinda Phipson MaintainerEmail: phipson.b at wehi.edu.au git_url: https://git.bioconductor.org/packages/speckle git_branch: devel git_last_commit: 36f86ad git_last_commit_date: 2025-10-29 11:20:18 -0400 (Wed, 29 Oct 2025)