Package: specL Version: 1.43.0 Command: /home/biocbuild/R/R/bin/R CMD INSTALL specL StartedAt: 2025-10-16 21:14:20 -0000 (Thu, 16 Oct 2025) EndedAt: 2025-10-16 21:15:31 -0000 (Thu, 16 Oct 2025) EllapsedTime: 70.9 seconds RetCode: 0 Status: OK