Package: specL Version: 1.43.0 Command: /home/biocbuild/R/R/bin/R CMD build --keep-empty-dirs --no-resave-data specL StartedAt: 2025-10-14 03:50:41 -0000 (Tue, 14 Oct 2025) EndedAt: 2025-10-14 03:51:14 -0000 (Tue, 14 Oct 2025) EllapsedTime: 33.0 seconds RetCode: 0 Status: OK PackageFile: specL_1.43.0.tar.gz PackageFileSize: 1.579 MiB