Package: specL Version: 1.43.0 Command: /home/biocbuild/bbs-3.22-bioc/R/bin/R CMD check --install=check:specL.install-out.txt --library=/home/biocbuild/bbs-3.22-bioc/R/site-library --timings specL_1.43.0.tar.gz StartedAt: 2025-10-13 04:36:22 -0400 (Mon, 13 Oct 2025) EndedAt: 2025-10-13 04:37:17 -0400 (Mon, 13 Oct 2025) EllapsedTime: 55.0 seconds RetCode: 0 Status: OK CheckDir: specL.Rcheck Warnings: 0