Package: specL Version: 1.45.0 Command: /home/biocbuild/bbs-3.23-bioc/R/bin/R CMD INSTALL specL StartedAt: 2025-11-20 15:05:44 -0500 (Thu, 20 Nov 2025) EndedAt: 2025-11-20 15:06:19 -0500 (Thu, 20 Nov 2025) EllapsedTime: 34.9 seconds RetCode: 0 Status: OK