Package: specL Version: 1.45.0 Command: /home/biocbuild/bbs-3.23-bioc/R/bin/R CMD check --install=check:specL.install-out.txt --library=/home/biocbuild/bbs-3.23-bioc/R/site-library --timings specL_1.45.0.tar.gz StartedAt: 2025-11-22 04:20:49 -0500 (Sat, 22 Nov 2025) EndedAt: 2025-11-22 04:21:43 -0500 (Sat, 22 Nov 2025) EllapsedTime: 54.2 seconds RetCode: 0 Status: OK CheckDir: specL.Rcheck Warnings: 0