Package: spatzie Version: 1.15.1 Command: /home/biocbuild/bbs-3.22-bioc/R/bin/R CMD INSTALL spatzie StartedAt: 2025-10-03 15:51:17 -0400 (Fri, 03 Oct 2025) EndedAt: 2025-10-03 15:52:12 -0400 (Fri, 03 Oct 2025) EllapsedTime: 54.3 seconds RetCode: 0 Status: OK