Package: spatzie Version: 1.15.1 Command: /home/biocbuild/bbs-3.22-bioc/R/bin/R CMD build --keep-empty-dirs --no-resave-data --md5 spatzie StartedAt: 2025-10-03 20:12:55 -0400 (Fri, 03 Oct 2025) EndedAt: 2025-10-03 20:13:51 -0400 (Fri, 03 Oct 2025) EllapsedTime: 56.0 seconds RetCode: 0 Status: OK PackageFile: spatzie_1.15.1.tar.gz PackageFileSize: 1.878 MiB