Package: spatzie Version: 1.17.0 Command: /Library/Frameworks/R.framework/Resources/bin/R CMD INSTALL spatzie StartedAt: 2025-11-27 15:27:01 -0500 (Thu, 27 Nov 2025) EndedAt: 2025-11-27 15:27:24 -0500 (Thu, 27 Nov 2025) EllapsedTime: 23.1 seconds RetCode: 0 Status: OK