Package: spatzie Version: 1.17.0 Command: /Library/Frameworks/R.framework/Resources/bin/R CMD build --keep-empty-dirs --no-resave-data spatzie StartedAt: 2025-11-27 17:49:24 -0500 (Thu, 27 Nov 2025) EndedAt: 2025-11-27 17:49:54 -0500 (Thu, 27 Nov 2025) EllapsedTime: 29.3 seconds RetCode: 0 Status: OK PackageFile: spatzie_1.17.0.tar.gz PackageFileSize: 1.876 MiB